BEGIN:VCALENDAR
VERSION:2.0
PRODID:-//IG Schiffsmodellbau PS e.V. - ECPv6.15.20//NONSGML v1.0//EN
CALSCALE:GREGORIAN
METHOD:PUBLISH
X-WR-CALNAME:IG Schiffsmodellbau PS e.V.
X-ORIGINAL-URL:https://de.schiffsmodellbau-ps.de
X-WR-CALDESC:Veranstaltungen für IG Schiffsmodellbau PS e.V.
REFRESH-INTERVAL;VALUE=DURATION:PT1H
X-Robots-Tag:noindex
X-PUBLISHED-TTL:PT1H
BEGIN:VTIMEZONE
TZID:Europe/Berlin
BEGIN:DAYLIGHT
TZOFFSETFROM:+0100
TZOFFSETTO:+0200
TZNAME:CEST
DTSTART:20250330T010000
END:DAYLIGHT
BEGIN:STANDARD
TZOFFSETFROM:+0200
TZOFFSETTO:+0100
TZNAME:CET
DTSTART:20251026T010000
END:STANDARD
BEGIN:DAYLIGHT
TZOFFSETFROM:+0100
TZOFFSETTO:+0200
TZNAME:CEST
DTSTART:20260329T010000
END:DAYLIGHT
BEGIN:STANDARD
TZOFFSETFROM:+0200
TZOFFSETTO:+0100
TZNAME:CET
DTSTART:20261025T010000
END:STANDARD
BEGIN:DAYLIGHT
TZOFFSETFROM:+0100
TZOFFSETTO:+0200
TZNAME:CEST
DTSTART:20270328T010000
END:DAYLIGHT
BEGIN:STANDARD
TZOFFSETFROM:+0200
TZOFFSETTO:+0100
TZNAME:CET
DTSTART:20271031T010000
END:STANDARD
END:VTIMEZONE
BEGIN:VEVENT
DTSTART;VALUE=DATE:20260704
DTEND;VALUE=DATE:20260705
DTSTAMP:20260420T112114
CREATED:20251230T105355Z
LAST-MODIFIED:20251230T105507Z
UID:4373-1783123200-1783209599@de.schiffsmodellbau-ps.de
SUMMARY:🚤 Schaufahren 2026 – Modellbau live in Idar-Oberstein
DESCRIPTION:Beim Schaufahren 2026 lädt der SMC Idar-Oberstein alle Freunde des Schiffsmodellbaus zu einem abwechslungsreichen Tag am Wasser ein. In entspannter Atmosphäre werden zahlreiche Schiffs- und Funktionsmodelle präsentiert und bei Vorführungen eindrucksvoll in Szene gesetzt. \nVon klassischen Arbeitsschiffen über elegante Yachten bis hin zu technisch anspruchsvollen Funktionsmodellen steht hier die Leidenschaft für den Modellbau und der persönliche Austausch im Mittelpunkt. Das Schaufahren in Idar-Oberstein ist damit ein fester Treffpunkt für Modellbauer\, Familien und interessierte Besucher – authentisch\, nahbar und ganz im Zeichen des gemeinsamen Hobbys.
URL:https://de.schiffsmodellbau-ps.de/veranstaltung/%f0%9f%9a%a4-schaufahren-2026-modellbau-live-in-idar-oberstein/
LOCATION:Historische Weiherschleife\, Tiefensteiner Str. 87\, Idar-Oberstein\, 55743
CATEGORIES:Öffentliche Veranstaltungen
ATTACH;FMTTYPE=image/png:https://de.schiffsmodellbau-ps.de/wp-content/uploads/2025/12/Schaufahren.png
END:VEVENT
END:VCALENDAR