BEGIN:VCALENDAR
VERSION:2.0
PRODID:-//IG Schiffsmodellbau PS e.V. - ECPv6.15.20//NONSGML v1.0//EN
CALSCALE:GREGORIAN
METHOD:PUBLISH
X-WR-CALNAME:IG Schiffsmodellbau PS e.V.
X-ORIGINAL-URL:https://de.schiffsmodellbau-ps.de
X-WR-CALDESC:Veranstaltungen für IG Schiffsmodellbau PS e.V.
REFRESH-INTERVAL;VALUE=DURATION:PT1H
X-Robots-Tag:noindex
X-PUBLISHED-TTL:PT1H
BEGIN:VTIMEZONE
TZID:Europe/Berlin
BEGIN:DAYLIGHT
TZOFFSETFROM:+0100
TZOFFSETTO:+0200
TZNAME:CEST
DTSTART:20250330T010000
END:DAYLIGHT
BEGIN:STANDARD
TZOFFSETFROM:+0200
TZOFFSETTO:+0100
TZNAME:CET
DTSTART:20251026T010000
END:STANDARD
BEGIN:DAYLIGHT
TZOFFSETFROM:+0100
TZOFFSETTO:+0200
TZNAME:CEST
DTSTART:20260329T010000
END:DAYLIGHT
BEGIN:STANDARD
TZOFFSETFROM:+0200
TZOFFSETTO:+0100
TZNAME:CET
DTSTART:20261025T010000
END:STANDARD
BEGIN:DAYLIGHT
TZOFFSETFROM:+0100
TZOFFSETTO:+0200
TZNAME:CEST
DTSTART:20270328T010000
END:DAYLIGHT
BEGIN:STANDARD
TZOFFSETFROM:+0200
TZOFFSETTO:+0100
TZNAME:CET
DTSTART:20271031T010000
END:STANDARD
END:VTIMEZONE
BEGIN:VEVENT
DTSTART;VALUE=DATE:20260725
DTEND;VALUE=DATE:20260727
DTSTAMP:20260420T112341
CREATED:20251230T132612Z
LAST-MODIFIED:20251230T132612Z
UID:4376-1784937600-1785110399@de.schiffsmodellbau-ps.de
SUMMARY:🚢 Schaufahren am Ommersheimer Weiher 2026 – Modellbau trifft Natur
DESCRIPTION:Beim Schaufahren 2026 lädt der MFS Saar an den idyllischen Ommersheimer Weiher ein. Inmitten der Natur präsentieren engagierte Modellbauer ihre detailreichen Schiffs- und Funktionsmodelle und lassen sie eindrucksvoll über das Wasser gleiten. \nVon klassischen Arbeitsschiffen über elegante Yachten bis hin zu technisch anspruchsvollen Funktionsmodellen steht hier das aktive Fahren\, der Austausch unter Gleichgesinnten und die Freude am Hobby im Mittelpunkt. Das Schaufahren des MFS Saar bietet 2026 beste Unterhaltung für Modellbau-Fans\, Familien und interessierte Besucher – entspannt\, authentisch und ganz nah am Wasser.
URL:https://de.schiffsmodellbau-ps.de/veranstaltung/%f0%9f%9a%a2-schaufahren-am-ommersheimer-weiher-2026-modellbau-trifft-natur/
LOCATION:Ommersheimer Weiher\, Am Ommersheimer Weiher\, Saarbrücker Str.\,\, Mandelbachtal\, 66399
CATEGORIES:Öffentliche Veranstaltungen
ATTACH;FMTTYPE=image/png:https://de.schiffsmodellbau-ps.de/wp-content/uploads/2025/12/Schaufahren.png
END:VEVENT
END:VCALENDAR