BEGIN:VCALENDAR
VERSION:2.0
PRODID:-//IG Schiffsmodellbau PS e.V. - ECPv6.15.20//NONSGML v1.0//EN
CALSCALE:GREGORIAN
METHOD:PUBLISH
X-WR-CALNAME:IG Schiffsmodellbau PS e.V.
X-ORIGINAL-URL:https://de.schiffsmodellbau-ps.de
X-WR-CALDESC:Veranstaltungen für IG Schiffsmodellbau PS e.V.
REFRESH-INTERVAL;VALUE=DURATION:PT1H
X-Robots-Tag:noindex
X-PUBLISHED-TTL:PT1H
BEGIN:VTIMEZONE
TZID:Europe/Berlin
BEGIN:DAYLIGHT
TZOFFSETFROM:+0100
TZOFFSETTO:+0200
TZNAME:CEST
DTSTART:20250330T010000
END:DAYLIGHT
BEGIN:STANDARD
TZOFFSETFROM:+0200
TZOFFSETTO:+0100
TZNAME:CET
DTSTART:20251026T010000
END:STANDARD
BEGIN:DAYLIGHT
TZOFFSETFROM:+0100
TZOFFSETTO:+0200
TZNAME:CEST
DTSTART:20260329T010000
END:DAYLIGHT
BEGIN:STANDARD
TZOFFSETFROM:+0200
TZOFFSETTO:+0100
TZNAME:CET
DTSTART:20261025T010000
END:STANDARD
BEGIN:DAYLIGHT
TZOFFSETFROM:+0100
TZOFFSETTO:+0200
TZNAME:CEST
DTSTART:20270328T010000
END:DAYLIGHT
BEGIN:STANDARD
TZOFFSETFROM:+0200
TZOFFSETTO:+0100
TZNAME:CET
DTSTART:20271031T010000
END:STANDARD
END:VTIMEZONE
BEGIN:VEVENT
DTSTART;VALUE=DATE:20260627
DTEND;VALUE=DATE:20260629
DTSTAMP:20260424T104130
CREATED:20251230T104740Z
LAST-MODIFIED:20251230T105554Z
UID:4371-1782518400-1782691199@de.schiffsmodellbau-ps.de
SUMMARY:🚢 Schaufahren 2026 in Monnerich (LUX) – Modellbau live erleben
DESCRIPTION:Das Schaufahren 2026 des SMBM Monnerich lädt Modellbau-Fans aus Luxemburg\, Deutschland und den Nachbarländern zu einem entspannten und zugleich beeindruckenden Wochenende ans Wasser ein. In Monnerich treffen sich engagierte Modellbauer\, um ihre detailreichen Schiffs- und Funktionsmodelle in Aktion zu zeigen. \nOb Arbeitsschiffe\, elegante Yachten oder technisch anspruchsvolle Funktionsmodelle – beim Schaufahren steht das gemeinsame Hobby\, der Austausch unter Gleichgesinnten und die Faszination Technik im Mittelpunkt. Besucher dürfen sich auf abwechslungsreiche Vorführungen\, viele Gespräche am Ufer und echtes Modellbau-Feeling in familiärer Atmosphäre freuen. Ein Termin\, der 2026 im Kalender nicht fehlen sollte!
URL:https://de.schiffsmodellbau-ps.de/veranstaltung/%f0%9f%9a%a2-schaufahren-2026-in-monnerich-lux-modellbau-live-erleben/
LOCATION:SMBM LU Weiher\, 49°32’41.4″N 5°58’36.1″E
CATEGORIES:Öffentliche Veranstaltungen
ATTACH;FMTTYPE=image/png:https://de.schiffsmodellbau-ps.de/wp-content/uploads/2025/12/Schaufahren.png
END:VEVENT
END:VCALENDAR