BEGIN:VCALENDAR
VERSION:2.0
PRODID:-//IG Schiffsmodellbau PS e.V. - ECPv6.15.20//NONSGML v1.0//EN
CALSCALE:GREGORIAN
METHOD:PUBLISH
X-WR-CALNAME:IG Schiffsmodellbau PS e.V.
X-ORIGINAL-URL:https://de.schiffsmodellbau-ps.de
X-WR-CALDESC:Veranstaltungen für IG Schiffsmodellbau PS e.V.
REFRESH-INTERVAL;VALUE=DURATION:PT1H
X-Robots-Tag:noindex
X-PUBLISHED-TTL:PT1H
BEGIN:VTIMEZONE
TZID:Europe/Berlin
BEGIN:DAYLIGHT
TZOFFSETFROM:+0100
TZOFFSETTO:+0200
TZNAME:CEST
DTSTART:20250330T010000
END:DAYLIGHT
BEGIN:STANDARD
TZOFFSETFROM:+0200
TZOFFSETTO:+0100
TZNAME:CET
DTSTART:20251026T010000
END:STANDARD
BEGIN:DAYLIGHT
TZOFFSETFROM:+0100
TZOFFSETTO:+0200
TZNAME:CEST
DTSTART:20260329T010000
END:DAYLIGHT
BEGIN:STANDARD
TZOFFSETFROM:+0200
TZOFFSETTO:+0100
TZNAME:CET
DTSTART:20261025T010000
END:STANDARD
BEGIN:DAYLIGHT
TZOFFSETFROM:+0100
TZOFFSETTO:+0200
TZNAME:CEST
DTSTART:20270328T010000
END:DAYLIGHT
BEGIN:STANDARD
TZOFFSETFROM:+0200
TZOFFSETTO:+0100
TZNAME:CET
DTSTART:20271031T010000
END:STANDARD
END:VTIMEZONE
BEGIN:VEVENT
DTSTART;VALUE=DATE:20260808
DTEND;VALUE=DATE:20260810
DTSTAMP:20260420T112114
CREATED:20251221T140710Z
LAST-MODIFIED:20251230T173533Z
UID:4240-1786147200-1786319999@de.schiffsmodellbau-ps.de
SUMMARY:🚢 Jubiläumsschaufahren am Eisweiher – 50 Jahre IG Schiffsmodellbau Pirmasens e.V.
DESCRIPTION:Im Rahmen unseres 50-jährigen Vereinsjubiläums laden wir alle Modellbau-Freunde\, Familien und Interessierten herzlich zu unserem großen Jubiläumsschaufahren am Eisweiher ein. \nErleben Sie Schiffsmodellbau live auf dem Wasser: Zahlreiche funktionsfähige Modellschiffe zeigen an beiden Tagen ihr Können – von klassischen Modellen bis hin zu modernen und technisch anspruchsvollen Nachbauten. Hier steht nicht nur das Zuschauen\, sondern das Erleben von Technik in Bewegung im Mittelpunkt. \n🚢 Schiffsmodelle in AktionBeim Schaufahren präsentieren Vereinsmitglieder und Gastfahrer ihre fahrbereiten Funktionsmodelle auf dem Eisweiher. Realistische Fahrbilder\, präzise Manöver und viele liebevolle Details machen das Schaufahren zu einem Erlebnis für Groß und Klein. \n🚛 LKW-ParcoursAbseits des Wassers sorgt unser LKW-Parcours für zusätzliche Highlights. Ferngesteuerte Trucks meistern anspruchsvolle Strecken und Hindernisse – spannend für Technik-Fans jeden Alters. \n🧗 CrawlerstreckeFür Offroad-Begeisterte steht eine Crawlerstrecke bereit. Hier zeigen geländegängige RC-Fahrzeuge ihr Können auf schwierigem Terrain – Action garantiert! \n🔥 Eisweiher in Flammen – SamstagabendEin ganz besonderes Highlight erwartet Sie am Samstagabend:Mit dem Programmpunkt „Eisweiher in Flammen“ setzen wir den festlichen Abschluss des Tages. Freuen Sie sich auf ein stimmungsvolles Höhenfeuerwerk\, das den Eisweiher in ein beeindruckendes Lichtermeer taucht und unser Jubiläum eindrucksvoll abrundet. \nDas Jubiläumsschaufahren richtet sich an: \n\nModellbau-Begeisterte und Vereine\naktive RC-Fahrer und Schiffsmodellbauer\nFamilien und Technikinteressierte\nalle\, die ein außergewöhnliches Hobby live erleben möchten\n\n  \n🎉 Feiern Sie mit uns 50 Jahre Schiffsmodellbau\, Technik und Gemeinschaft in entspannter Atmosphäre am Eisweiher. \n 
URL:https://de.schiffsmodellbau-ps.de/veranstaltung/%f0%9f%9a%a2-jubilaeumsschaufahren-am-eisweiher-50-jahre-ig-schiffsmodellbau-pirmasens-e-v/
LOCATION:IG Schiffsmodellbau PS e.V. – Eisweiher\, Landauer Str.110\, Pirmasens\, Deutschland
CATEGORIES:Öffentliche Veranstaltungen
ATTACH;FMTTYPE=image/png:https://de.schiffsmodellbau-ps.de/wp-content/uploads/2025/12/Eisweiher_mit_50.png
ORGANIZER;CN="IG Schiffsmodellbau Pirmasens e.V.":MAILTO:info@schiffsmodellbau-ps.de
END:VEVENT
END:VCALENDAR