BEGIN:VCALENDAR
VERSION:2.0
PRODID:-//IG Schiffsmodellbau PS e.V. - ECPv6.15.20//NONSGML v1.0//EN
CALSCALE:GREGORIAN
METHOD:PUBLISH
X-WR-CALNAME:IG Schiffsmodellbau PS e.V.
X-ORIGINAL-URL:https://de.schiffsmodellbau-ps.de
X-WR-CALDESC:Veranstaltungen für IG Schiffsmodellbau PS e.V.
REFRESH-INTERVAL;VALUE=DURATION:PT1H
X-Robots-Tag:noindex
X-PUBLISHED-TTL:PT1H
BEGIN:VTIMEZONE
TZID:Europe/Berlin
BEGIN:DAYLIGHT
TZOFFSETFROM:+0100
TZOFFSETTO:+0200
TZNAME:CEST
DTSTART:20250330T010000
END:DAYLIGHT
BEGIN:STANDARD
TZOFFSETFROM:+0200
TZOFFSETTO:+0100
TZNAME:CET
DTSTART:20251026T010000
END:STANDARD
BEGIN:DAYLIGHT
TZOFFSETFROM:+0100
TZOFFSETTO:+0200
TZNAME:CEST
DTSTART:20260329T010000
END:DAYLIGHT
BEGIN:STANDARD
TZOFFSETFROM:+0200
TZOFFSETTO:+0100
TZNAME:CET
DTSTART:20261025T010000
END:STANDARD
BEGIN:DAYLIGHT
TZOFFSETFROM:+0100
TZOFFSETTO:+0200
TZNAME:CEST
DTSTART:20270328T010000
END:DAYLIGHT
BEGIN:STANDARD
TZOFFSETFROM:+0200
TZOFFSETTO:+0100
TZNAME:CET
DTSTART:20271031T010000
END:STANDARD
END:VTIMEZONE
BEGIN:VEVENT
DTSTART;VALUE=DATE:20260919
DTEND;VALUE=DATE:20260920
DTSTAMP:20260422T112528
CREATED:20251230T134809Z
LAST-MODIFIED:20251230T134809Z
UID:4385-1789776000-1789862399@de.schiffsmodellbau-ps.de
SUMMARY:🎈 Kinderspieltag 2026 – Spiel\, Spaß und Bewegung für alle
DESCRIPTION:Beim Kinderspieltag 2026 lädt die Stadt Pirmasens Kinder und Familien zu einem bunten und abwechslungsreichen Tag ein. Im Mittelpunkt stehen Bewegung\, Kreativität und gemeinsames Erleben – mit vielen Spiel- und Mitmachaktionen\, bei denen Kinder nach Herzenslust entdecken\, ausprobieren und toben können. \nOb sportliche Herausforderungen\, kreative Angebote oder einfach fröhliches Spielen unter freiem Himmel: Der Kinderspieltag bietet jede Menge Abwechslung und sorgt für strahlende Gesichter und echte Sommerstimmung. Ein rundum gelungener Familientag\, der zeigt\, wie lebendig und kinderfreundlich Pirmasens ist.
URL:https://de.schiffsmodellbau-ps.de/veranstaltung/%f0%9f%8e%88-kinderspieltag-2026-spiel-spass-und-bewegung-fuer-alle/
LOCATION:Stadt Pirmasens / Exe\, Exerzierplatzstraße\, Pirmasens\, 66953\, Germany
CATEGORIES:Öffentliche Veranstaltungen
ATTACH;FMTTYPE=image/png:https://de.schiffsmodellbau-ps.de/wp-content/uploads/2025/12/Kinderspieltag.png
END:VEVENT
END:VCALENDAR